BEGIN:VCALENDAR
VERSION:2.0
PRODID:-//Tukios.com/
BEGIN:VEVENT
UID:ae14ea5d-3bce-45d7-b150-3447ad4ea0ef@www.nardolillofh.com
DTSTAMP:20260425T205107Z
DTSTART:20260501T140000Z
DTEND:20260501T160000Z
SUMMARY:Visitation
DESCRIPTION:
URL:https://www.nardolillofh.com/obituaries/b-stansfield
LOCATION: 1278 Park Ave  Cranston RI 02910
GEO:41.784297;-71.454402
END:VEVENT
END:VCALENDAR