BEGIN:VCALENDAR
VERSION:2.0
PRODID:-//Tukios.com/
BEGIN:VEVENT
UID:4555506b-1b4a-40f8-939a-06123f628525@www.nardolillofh.com
DTSTAMP:20260419T175933Z
DTSTART:20260423T130000Z
DTEND:20260423T140000Z
SUMMARY:Visitation
DESCRIPTION:
URL:https://www.nardolillofh.com/obituaries/elaine-scittarelli
LOCATION: 1278 Park Ave  Cranston RI 02910
GEO:41.784297;-71.454402
END:VEVENT
END:VCALENDAR