BEGIN:VCALENDAR
VERSION:2.0
PRODID:-//Tukios.com/
BEGIN:VEVENT
UID:7024716e-b000-49e5-9848-291204807962@www.nardolillofh.com
DTSTAMP:20260419T175827Z
DTSTART:20260423
SUMMARY:Burial
DESCRIPTION:
URL:https://www.nardolillofh.com/obituaries/elaine-scittarelli
LOCATION: 73 Church Street  Cranston RI 02920
GEO:41.7951883;-71.464825
END:VEVENT
END:VCALENDAR