BEGIN:VCALENDAR
VERSION:2.0
PRODID:-//Tukios.com/
BEGIN:VEVENT
UID:91d41058-5a42-4091-9af5-21c98344d2af@www.nardolillofh.com
DTSTAMP:20260419T175817Z
DTSTART:20260423T150000Z
DTEND:20260423T160000Z
SUMMARY:Mass
DESCRIPTION:
URL:https://www.nardolillofh.com/obituaries/elaine-scittarelli
LOCATION: 1525 Cranston Street  Cranston RI 02920
GEO:41.7898444;-71.4630069
END:VEVENT
END:VCALENDAR