BEGIN:VCALENDAR
VERSION:2.0
PRODID:-//Tukios.com/
BEGIN:VEVENT
UID:c83f5a45-3193-4003-b8c7-b8b02ecd9bc7@www.nardolillofh.com
DTSTAMP:20260421T084623Z
DTSTART:20260418T200000Z
DTEND:20260418T230000Z
SUMMARY:Visitation
DESCRIPTION:
URL:https://www.nardolillofh.com/obituaries/gail-andrews
LOCATION: 1278 Park Avenue  Cranston RI 02910
GEO:41.784297;-71.454402
END:VEVENT
END:VCALENDAR