BEGIN:VCALENDAR
VERSION:2.0
PRODID:-//Tukios.com/
BEGIN:VEVENT
UID:1244e6d7-4a4e-497a-a9f5-145c0be9b59e@www.nardolillofh.com
DTSTAMP:20260420T225948Z
DTSTART:20260424T200000Z
DTEND:20260424T230000Z
SUMMARY:Visitation
DESCRIPTION:
URL:https://www.nardolillofh.com/obituaries/gary-williams
LOCATION:Nardolillo Funeral Home & Crematory 1278 Park Avenue  Cranston 
	RI 02910
GEO:41.784297;-71.454402
END:VEVENT
END:VCALENDAR