BEGIN:VCALENDAR
VERSION:2.0
PRODID:-//Tukios.com/
BEGIN:VEVENT
UID:9019e361-31bb-429d-b53d-36814543c370@www.nardolillofh.com
DTSTAMP:20260420T225825Z
DTSTART:20260425T150000Z
DTEND:20260425T160000Z
SUMMARY:Funeral Service
DESCRIPTION:
URL:https://www.nardolillofh.com/obituaries/gary-williams
LOCATION:Nardolillo Funeral Home & Crematory 1278 Park Avenue  Cranston 
	RI 02910
GEO:41.784297;-71.454402
END:VEVENT
END:VCALENDAR