BEGIN:VCALENDAR
VERSION:2.0
PRODID:-//Tukios.com/
BEGIN:VEVENT
UID:b7a21610-28dd-467a-8201-719cee782c1a@www.nardolillofh.com
DTSTAMP:20260425T165908Z
DTSTART:20260501T130000Z
DTEND:20260501T140000Z
SUMMARY:Visitation
DESCRIPTION:
URL:https://www.nardolillofh.com/obituaries/louis-furia
LOCATION: 1278 Park Ave  Cranston RI 02910
GEO:41.784297;-71.454402
END:VEVENT
END:VCALENDAR