BEGIN:VCALENDAR
VERSION:2.0
PRODID:-//Tukios.com/
BEGIN:VEVENT
UID:c250171b-6cba-459f-ac3b-aea5b71c3256@www.nardolillofh.com
DTSTAMP:20260425T170051Z
DTSTART:20260501T150000Z
DTEND:20260501T160000Z
SUMMARY:Mass
DESCRIPTION:
URL:https://www.nardolillofh.com/obituaries/louis-furia
LOCATION: 645 Hartford Avenue  Providence RI 02909
GEO:41.8199737;-71.4662098
END:VEVENT
END:VCALENDAR