BEGIN:VCALENDAR
VERSION:2.0
PRODID:-//Tukios.com/
BEGIN:VEVENT
UID:1137930a-3e14-4009-8fe1-6d09ce468aef@www.nardolillofh.com
DTSTAMP:20260425T165752Z
DTSTART:20260501
SUMMARY:Burial
DESCRIPTION:
URL:https://www.nardolillofh.com/obituaries/louis-furia
LOCATION: 73 Church Street  Cranston RI 02920
GEO:41.7951883;-71.464825
END:VEVENT
END:VCALENDAR