BEGIN:VCALENDAR
VERSION:2.0
PRODID:-//Tukios.com/
BEGIN:VEVENT
UID:9bd8b2b0-d1bf-464e-87f9-bb477589637c@www.nardolillofh.com
DTSTAMP:20260424T201230Z
DTSTART:20260428T150000Z
DTEND:20260428T160000Z
SUMMARY:Mass
DESCRIPTION:
URL:https://www.nardolillofh.com/obituaries/lucia-corsetti
LOCATION:St. Bartholomew’s Church 297 Laurel Hill Avenue  Providence RI 
	02909
GEO:41.8084054;-71.4533417
END:VEVENT
END:VCALENDAR