BEGIN:VCALENDAR
VERSION:2.0
PRODID:-//Tukios.com/
BEGIN:VEVENT
UID:afcc4f4a-5d3b-4231-b001-acfdcec2733d@www.nardolillofh.com
DTSTAMP:20260424T201119Z
DTSTART:20260428
SUMMARY:Burial
DESCRIPTION:
URL:https://www.nardolillofh.com/obituaries/lucia-corsetti
LOCATION: 73 Church Street  Cranston RI 02920
GEO:41.7951883;-71.464825
END:VEVENT
END:VCALENDAR