BEGIN:VCALENDAR
VERSION:2.0
PRODID:-//Tukios.com/
BEGIN:VEVENT
UID:ae344ffe-19cc-4536-991e-2831177fc13e@www.nardolillofh.com
DTSTAMP:20260424T200813Z
DTSTART:20260428T130000Z
DTEND:20260428T140000Z
SUMMARY:Visitation
DESCRIPTION:
URL:https://www.nardolillofh.com/obituaries/lucia-corsetti
LOCATION:NARDOLILLO FUNERAL HOME & Crematory 1278 Park Avenue  Cranston 
	RI 02910
GEO:41.7842969;-71.454402
END:VEVENT
END:VCALENDAR