BEGIN:VCALENDAR
VERSION:2.0
PRODID:-//Tukios.com/
BEGIN:VEVENT
UID:2516d2c4-c3b0-4518-bc15-da0bcb0b9d2e@www.nardolillofh.com
DTSTAMP:20260421T084404Z
DTSTART:20260421
SUMMARY:Burial
DESCRIPTION:
URL:https://www.nardolillofh.com/obituaries/marie-talone
LOCATION: 73 Church Street  Cranston RI 02920
GEO:41.7951883;-71.464825
END:VEVENT
END:VCALENDAR